BEGIN:VCALENDAR
VERSION:2.0
PRODID:-//Bloomington North Rotary - ECPv6.15.20//NONSGML v1.0//EN
CALSCALE:GREGORIAN
METHOD:PUBLISH
X-WR-CALNAME:Bloomington North Rotary
X-ORIGINAL-URL:https://bloomingtonnorthrotary.com
X-WR-CALDESC:Events for Bloomington North Rotary
REFRESH-INTERVAL;VALUE=DURATION:PT1H
X-Robots-Tag:noindex
X-PUBLISHED-TTL:PT1H
BEGIN:VTIMEZONE
TZID:America/Indiana/Indianapolis
BEGIN:DAYLIGHT
TZOFFSETFROM:-0500
TZOFFSETTO:-0400
TZNAME:EDT
DTSTART:20250309T070000
END:DAYLIGHT
BEGIN:STANDARD
TZOFFSETFROM:-0400
TZOFFSETTO:-0500
TZNAME:EST
DTSTART:20251102T060000
END:STANDARD
BEGIN:DAYLIGHT
TZOFFSETFROM:-0500
TZOFFSETTO:-0400
TZNAME:EDT
DTSTART:20260308T070000
END:DAYLIGHT
BEGIN:STANDARD
TZOFFSETFROM:-0400
TZOFFSETTO:-0500
TZNAME:EST
DTSTART:20261101T060000
END:STANDARD
BEGIN:DAYLIGHT
TZOFFSETFROM:-0500
TZOFFSETTO:-0400
TZNAME:EDT
DTSTART:20270314T070000
END:DAYLIGHT
BEGIN:STANDARD
TZOFFSETFROM:-0400
TZOFFSETTO:-0500
TZNAME:EST
DTSTART:20271107T060000
END:STANDARD
END:VTIMEZONE
BEGIN:VEVENT
DTSTART;TZID=America/Indiana/Indianapolis:20260101T113000
DTEND;TZID=America/Indiana/Indianapolis:20260101T130000
DTSTAMP:20260421T234937
CREATED:20251122T015810Z
LAST-MODIFIED:20251122T015810Z
UID:729-1767267000-1767272400@bloomingtonnorthrotary.com
SUMMARY:No Meeting - New Year's Day
DESCRIPTION:
URL:https://bloomingtonnorthrotary.com/event/no-meeting-new-years-day/
LOCATION:IN
CATEGORIES:Weekly Meeting
ATTACH;FMTTYPE=image/jpeg:https://bloomingtonnorthrotary.com/wp-content/uploads/2024/05/newyears.jpg
END:VEVENT
BEGIN:VEVENT
DTSTART;TZID=America/Indiana/Indianapolis:20260108T113000
DTEND;TZID=America/Indiana/Indianapolis:20260108T130000
DTSTAMP:20260421T234937
CREATED:20251122T020016Z
LAST-MODIFIED:20251228T193207Z
UID:731-1767871800-1767877200@bloomingtonnorthrotary.com
SUMMARY:Dallas Evans - Wonderlab
DESCRIPTION:WonderLab is a community gathering place where curiosity\, play\, and learning come together. As an informal science museum\, we help children and families build a lifelong love of science through hands-on exploration – and we’re also a great place to work or volunteer\, sharing skills while making a meaningful community impact.
URL:https://bloomingtonnorthrotary.com/event/dallas-evans-wonderlab/
LOCATION:Crazy Horse\, 214 W. Kirkwood Ave.\, Bloomington\, IN\, 47404\, United States
CATEGORIES:Weekly Meeting
ATTACH;FMTTYPE=image/jpeg:https://bloomingtonnorthrotary.com/wp-content/uploads/2025/11/Dallas-Evans.jpg
END:VEVENT
BEGIN:VEVENT
DTSTART;TZID=America/Indiana/Indianapolis:20260115T113000
DTEND;TZID=America/Indiana/Indianapolis:20260115T130000
DTSTAMP:20260421T234937
CREATED:20260108T200834Z
LAST-MODIFIED:20260108T200834Z
UID:748-1768476600-1768482000@bloomingtonnorthrotary.com
SUMMARY:Tom Rillo - Lessons from 41 years in Financial Advising
DESCRIPTION:1) What is a “financial advisor”?\n2)  Changes in the industry over my 41 year career\n3). Strangest things I’ve seen clients do with their $
URL:https://bloomingtonnorthrotary.com/event/tom-rillo-lessons-from-41-years-in-financial-advising/
LOCATION:Crazy Horse\, 214 W. Kirkwood Ave.\, Bloomington\, IN\, 47404\, United States
CATEGORIES:Weekly Meeting
ATTACH;FMTTYPE=image/jpeg:https://bloomingtonnorthrotary.com/wp-content/uploads/2026/01/thomas-rillo.jpg
END:VEVENT
BEGIN:VEVENT
DTSTART;TZID=America/Indiana/Indianapolis:20260122T113000
DTEND;TZID=America/Indiana/Indianapolis:20260122T130000
DTSTAMP:20260421T234937
CREATED:20251122T021444Z
LAST-MODIFIED:20260114T200056Z
UID:737-1769081400-1769086800@bloomingtonnorthrotary.com
SUMMARY:Detective Robert Shrake - Senior Police Officer
DESCRIPTION:Detective Shrake primarily works financial crimes for the last 6 or so years.   He will discuss some of the trends that we are seeing with fraud and identity theft\, how to best avoid being taken advantage of and what to do if it happens.  It impacts us all and no one is immune to it.
URL:https://bloomingtonnorthrotary.com/event/detective-robert-shrake-senior-police-officer/
LOCATION:Crazy Horse\, 214 W. Kirkwood Ave.\, Bloomington\, IN\, 47404\, United States
CATEGORIES:Weekly Meeting
ATTACH;FMTTYPE=image/jpeg:https://bloomingtonnorthrotary.com/wp-content/uploads/2025/11/Robert-Shrake.jpg
END:VEVENT
BEGIN:VEVENT
DTSTART;TZID=America/Indiana/Indianapolis:20260129T113000
DTEND;TZID=America/Indiana/Indianapolis:20260129T130000
DTSTAMP:20260421T234937
CREATED:20260127T165410Z
LAST-MODIFIED:20260127T165410Z
UID:773-1769686200-1769691600@bloomingtonnorthrotary.com
SUMMARY:Madi Hirschland - Electrify Indiana
DESCRIPTION:Madi is working with Bloomington Energy Works program to promote heat pumps and electrification of the City of Bloomington.
URL:https://bloomingtonnorthrotary.com/event/madi-hirschland-electrify-indiana/
LOCATION:Crazy Horse\, 214 W. Kirkwood Ave.\, Bloomington\, IN\, 47404\, United States
CATEGORIES:Weekly Meeting
ATTACH;FMTTYPE=image/jpeg:https://bloomingtonnorthrotary.com/wp-content/uploads/2026/01/madi-hirschland-head-shot-e1635128500512.jpg
END:VEVENT
END:VCALENDAR