BEGIN:VCALENDAR
VERSION:2.0
PRODID:-//Bloomington North Rotary - ECPv6.15.20//NONSGML v1.0//EN
CALSCALE:GREGORIAN
METHOD:PUBLISH
X-WR-CALNAME:Bloomington North Rotary
X-ORIGINAL-URL:https://bloomingtonnorthrotary.com
X-WR-CALDESC:Events for Bloomington North Rotary
REFRESH-INTERVAL;VALUE=DURATION:PT1H
X-Robots-Tag:noindex
X-PUBLISHED-TTL:PT1H
BEGIN:VTIMEZONE
TZID:America/Indiana/Indianapolis
BEGIN:DAYLIGHT
TZOFFSETFROM:-0500
TZOFFSETTO:-0400
TZNAME:EDT
DTSTART:20240310T070000
END:DAYLIGHT
BEGIN:STANDARD
TZOFFSETFROM:-0400
TZOFFSETTO:-0500
TZNAME:EST
DTSTART:20241103T060000
END:STANDARD
BEGIN:DAYLIGHT
TZOFFSETFROM:-0500
TZOFFSETTO:-0400
TZNAME:EDT
DTSTART:20250309T070000
END:DAYLIGHT
BEGIN:STANDARD
TZOFFSETFROM:-0400
TZOFFSETTO:-0500
TZNAME:EST
DTSTART:20251102T060000
END:STANDARD
BEGIN:DAYLIGHT
TZOFFSETFROM:-0500
TZOFFSETTO:-0400
TZNAME:EDT
DTSTART:20260308T070000
END:DAYLIGHT
BEGIN:STANDARD
TZOFFSETFROM:-0400
TZOFFSETTO:-0500
TZNAME:EST
DTSTART:20261101T060000
END:STANDARD
END:VTIMEZONE
BEGIN:VEVENT
DTSTART;TZID=America/Indiana/Indianapolis:20251002T113000
DTEND;TZID=America/Indiana/Indianapolis:20251002T130000
DTSTAMP:20260421T203111
CREATED:20250825T152836Z
LAST-MODIFIED:20250826T235803Z
UID:667-1759404600-1759410000@bloomingtonnorthrotary.com
SUMMARY:Jamie Neibel - Director of Emergency Management - Monroe County
DESCRIPTION:
URL:https://bloomingtonnorthrotary.com/event/jaime-neibel-director-of-emergency-management-monroe-county/
LOCATION:Crazy Horse\, 214 W. Kirkwood Ave.\, Bloomington\, IN\, 47404\, United States
CATEGORIES:District
ATTACH;FMTTYPE=image/jpeg:https://bloomingtonnorthrotary.com/wp-content/uploads/2025/08/JamieNeibel.jpeg
END:VEVENT
BEGIN:VEVENT
DTSTART;TZID=America/Indiana/Indianapolis:20251009T113000
DTEND;TZID=America/Indiana/Indianapolis:20251009T130000
DTSTAMP:20260421T203111
CREATED:20250617T204552Z
LAST-MODIFIED:20250825T153819Z
UID:635-1760009400-1760014800@bloomingtonnorthrotary.com
SUMMARY:Noah Jager\, Rotary Global Scholar
DESCRIPTION:Hometown: Bloomington\, IN \nUndergrad school/major:  U.S. Military Academy\, West Point\, NY \nGrad school:  King’s College London\, will receive a master’s degree in International Peace and Security from King’s College London. \nArea of focus: Peacebuilding and Conflict Prevention.  \nHost club: Rotary Club of Golders Green\, District 1130\, London  \nMore info: After receiving his master’s degree from King’s College\, Noah will serve as an officer in the U.S. Army for a minimum of five years on active duty and three years in the reserves. In his first duty position\, Noah will serve as a Military Intelligence Officer specializing in strategic intelligence \nAfter serving in this role\, he hopes to become a Foreign Area Officer (FAO)\, providing liaison with countries in an assigned region through policymaking\, military cooperation\, and community engagement.  \nLater\, Noah plans to return to Indiana where he will practice law and serve in the Indiana National Guard. Ultimately\, he plans to serve the needs of Hoosiers by serving in the U.S. Congress. \nNoah was chosen for the first-ever all-Indiana Rotary Global Scholarship\, sponsored by Districts 6540\, 6560 and 6580. \nHe has attended Bloomington Sunrise and Bloomington Rotary events.  \nHigh school: Noah attended Bloomington High School South where he worked hard academically and excelled athletically\, helping the South basketball team go 26-0 in his senior year.  Along with his passion for basketball\, Noah developed a love for theatre and he performed lead roles in “Guys and Dolls” and in “Beauty and the Beast.” Also\, he helped his high school raise more than $165\,000 for Riley Children’s Hospital as an executive morale officer.
URL:https://bloomingtonnorthrotary.com/event/noah-jager-rotary-global-scholar/
LOCATION:Crazy Horse\, 214 W. Kirkwood Ave.\, Bloomington\, IN\, 47404\, United States
ATTACH;FMTTYPE=image/png:https://bloomingtonnorthrotary.com/wp-content/uploads/2025/06/noah.png
END:VEVENT
BEGIN:VEVENT
DTSTART;VALUE=DATE:20251016
DTEND;VALUE=DATE:20251017
DTSTAMP:20260421T203111
CREATED:20250908T194200Z
LAST-MODIFIED:20250908T194200Z
UID:683-1760572800-1760659199@bloomingtonnorthrotary.com
SUMMARY:Fall Break - No Meeting
DESCRIPTION:
URL:https://bloomingtonnorthrotary.com/event/fall-break-no-meeting/
LOCATION:Crazy Horse\, 214 W. Kirkwood Ave.\, Bloomington\, IN\, 47404\, United States
CATEGORIES:Weekly Meeting
ATTACH;FMTTYPE=image/jpeg:https://bloomingtonnorthrotary.com/wp-content/uploads/2025/09/fall-break.jpeg
END:VEVENT
BEGIN:VEVENT
DTSTART;TZID=America/Indiana/Indianapolis:20251023T113000
DTEND;TZID=America/Indiana/Indianapolis:20251023T130000
DTSTAMP:20260421T203111
CREATED:20250925T174959Z
LAST-MODIFIED:20250925T174959Z
UID:691-1761219000-1761224400@bloomingtonnorthrotary.com
SUMMARY:Pablo Fuentes - Creating Connections & Community in New Places
DESCRIPTION:
URL:https://bloomingtonnorthrotary.com/event/pablo-fuentes-creating-connections-community-in-new-places/
LOCATION:Crazy Horse\, 214 W. Kirkwood Ave.\, Bloomington\, IN\, 47404\, United States
CATEGORIES:Weekly Meeting
ATTACH;FMTTYPE=image/jpeg:https://bloomingtonnorthrotary.com/wp-content/uploads/2025/09/Pablo_Fuentes.jpg
END:VEVENT
BEGIN:VEVENT
DTSTART;TZID=America/Indiana/Indianapolis:20251030T113000
DTEND;TZID=America/Indiana/Indianapolis:20251030T130000
DTSTAMP:20260421T203111
CREATED:20250908T194629Z
LAST-MODIFIED:20250908T194629Z
UID:686-1761823800-1761829200@bloomingtonnorthrotary.com
SUMMARY:Talisha Coppock - Downtown Bloomington ED
DESCRIPTION:
URL:https://bloomingtonnorthrotary.com/event/talisha-coppock/
LOCATION:Crazy Horse\, 214 W. Kirkwood Ave.\, Bloomington\, IN\, 47404\, United States
CATEGORIES:Weekly Meeting
ATTACH;FMTTYPE=image/jpeg:https://bloomingtonnorthrotary.com/wp-content/uploads/2023/05/Talisha-Coppock-600x900-1.jpg
END:VEVENT
END:VCALENDAR