BEGIN:VCALENDAR
VERSION:2.0
PRODID:-//Bloomington North Rotary - ECPv6.15.20//NONSGML v1.0//EN
CALSCALE:GREGORIAN
METHOD:PUBLISH
X-ORIGINAL-URL:https://bloomingtonnorthrotary.com
X-WR-CALDESC:Events for Bloomington North Rotary
REFRESH-INTERVAL;VALUE=DURATION:PT1H
X-Robots-Tag:noindex
X-PUBLISHED-TTL:PT1H
BEGIN:VTIMEZONE
TZID:America/Indiana/Indianapolis
BEGIN:DAYLIGHT
TZOFFSETFROM:-0500
TZOFFSETTO:-0400
TZNAME:EDT
DTSTART:20240310T070000
END:DAYLIGHT
BEGIN:STANDARD
TZOFFSETFROM:-0400
TZOFFSETTO:-0500
TZNAME:EST
DTSTART:20241103T060000
END:STANDARD
BEGIN:DAYLIGHT
TZOFFSETFROM:-0500
TZOFFSETTO:-0400
TZNAME:EDT
DTSTART:20250309T070000
END:DAYLIGHT
BEGIN:STANDARD
TZOFFSETFROM:-0400
TZOFFSETTO:-0500
TZNAME:EST
DTSTART:20251102T060000
END:STANDARD
BEGIN:DAYLIGHT
TZOFFSETFROM:-0500
TZOFFSETTO:-0400
TZNAME:EDT
DTSTART:20260308T070000
END:DAYLIGHT
BEGIN:STANDARD
TZOFFSETFROM:-0400
TZOFFSETTO:-0500
TZNAME:EST
DTSTART:20261101T060000
END:STANDARD
END:VTIMEZONE
BEGIN:VEVENT
DTSTART;VALUE=DATE:20250703
DTEND;VALUE=DATE:20250704
DTSTAMP:20260421T155735
CREATED:20250618T175656Z
LAST-MODIFIED:20250618T175656Z
UID:639-1751500800-1751587199@bloomingtonnorthrotary.com
SUMMARY:No Meeting for Long Holiday Weekend
DESCRIPTION:
URL:https://bloomingtonnorthrotary.com/event/no-meeting-for-long-holiday-weekend/
LOCATION:IN
ATTACH;FMTTYPE=image/jpeg:https://bloomingtonnorthrotary.com/wp-content/uploads/2024/05/Rotary-4th-of-July.jpg
END:VEVENT
BEGIN:VEVENT
DTSTART;TZID=America/Indiana/Indianapolis:20250710T113000
DTEND;TZID=America/Indiana/Indianapolis:20250710T130000
DTSTAMP:20260421T155735
CREATED:20250618T180345Z
LAST-MODIFIED:20250618T180416Z
UID:641-1752147000-1752152400@bloomingtonnorthrotary.com
SUMMARY:Stephanie Shelton
DESCRIPTION:Stephanie is going to share with our club a new educational event on July 26th called Survivor Summit. She is also going to share the plans for this Octobers paint the town Pink for Hoosiers Outrun Cancer.
URL:https://bloomingtonnorthrotary.com/event/stephanie-shelton/
LOCATION:Crazy Horse\, 214 W. Kirkwood Ave.\, Bloomington\, IN\, 47404\, United States
ATTACH;FMTTYPE=image/png:https://bloomingtonnorthrotary.com/wp-content/uploads/2024/08/Stephanie.png
END:VEVENT
BEGIN:VEVENT
DTSTART;TZID=America/Indiana/Indianapolis:20250717T113000
DTEND;TZID=America/Indiana/Indianapolis:20250717T130000
DTSTAMP:20260421T155735
CREATED:20250618T190546Z
LAST-MODIFIED:20250618T190546Z
UID:648-1752751800-1752757200@bloomingtonnorthrotary.com
SUMMARY:Phyllis Emerick
DESCRIPTION:
URL:https://bloomingtonnorthrotary.com/event/phyllis-emerick/
LOCATION:Crazy Horse\, 214 W. Kirkwood Ave.\, Bloomington\, IN\, 47404\, United States
END:VEVENT
BEGIN:VEVENT
DTSTART;TZID=America/Indiana/Indianapolis:20250724T113000
DTEND;TZID=America/Indiana/Indianapolis:20250724T130000
DTSTAMP:20260421T155735
CREATED:20250526T201659Z
LAST-MODIFIED:20250526T201659Z
UID:627-1753356600-1753362000@bloomingtonnorthrotary.com
SUMMARY:ChatGPT----What is it and how does it work? Jeremy Earle will be joining us to tell us just enough to confuse us more!!!!
DESCRIPTION:I recently had lunch with Jeremy Earle and Elizabeth Moore from Sherwood Oaks Christian Church. Our conversation included a talk about ChatGPT. What???? Jeremy is currently in charge of Executive Operations at SOCC but has been with the church for over 17 years. \nFrom WIKIPEDIA… \nChatGPT is a generative artificial intelligence chatbot developed by the American company OpenAI and launched in 2022. It is based on large language models (LLMs) such as GPT-4o. ChatGPT can generate human-like conversational responses and enables users to refine and steer a conversation towards a desired length\, format\, style\, level of detail\, and language.[2] It is credited with accelerating the AI boom\, an ongoing period of rapid investment in and public attention to the field of artificial intelligence (AI).[3] Some observers have raised concern about the potential of ChatGPT and similar programs to displace human intelligence\, enable plagiarism\, or fuel misinformation.[4][5] \nI can’t wait to hear him speak. Please join us! \n 
URL:https://bloomingtonnorthrotary.com/event/chatgpt-what-is-it-and-how-does-it-work-jeremy-earle-will-be-joining-us-to-tell-us-just-enough-to-confuse-us-more/
LOCATION:Crazy Horse\, 214 W. Kirkwood Ave.\, Bloomington\, IN\, 47404\, United States
ATTACH;FMTTYPE=image/jpeg:https://bloomingtonnorthrotary.com/wp-content/uploads/2025/05/jeremey-two.jpg
END:VEVENT
END:VCALENDAR