BEGIN:VCALENDAR
VERSION:2.0
PRODID:-//Bloomington North Rotary - ECPv6.15.20//NONSGML v1.0//EN
CALSCALE:GREGORIAN
METHOD:PUBLISH
X-WR-CALNAME:Bloomington North Rotary
X-ORIGINAL-URL:https://bloomingtonnorthrotary.com
X-WR-CALDESC:Events for Bloomington North Rotary
REFRESH-INTERVAL;VALUE=DURATION:PT1H
X-Robots-Tag:noindex
X-PUBLISHED-TTL:PT1H
BEGIN:VTIMEZONE
TZID:America/Indiana/Indianapolis
BEGIN:DAYLIGHT
TZOFFSETFROM:-0500
TZOFFSETTO:-0400
TZNAME:EDT
DTSTART:20240310T070000
END:DAYLIGHT
BEGIN:STANDARD
TZOFFSETFROM:-0400
TZOFFSETTO:-0500
TZNAME:EST
DTSTART:20241103T060000
END:STANDARD
BEGIN:DAYLIGHT
TZOFFSETFROM:-0500
TZOFFSETTO:-0400
TZNAME:EDT
DTSTART:20250309T070000
END:DAYLIGHT
BEGIN:STANDARD
TZOFFSETFROM:-0400
TZOFFSETTO:-0500
TZNAME:EST
DTSTART:20251102T060000
END:STANDARD
BEGIN:DAYLIGHT
TZOFFSETFROM:-0500
TZOFFSETTO:-0400
TZNAME:EDT
DTSTART:20260308T070000
END:DAYLIGHT
BEGIN:STANDARD
TZOFFSETFROM:-0400
TZOFFSETTO:-0500
TZNAME:EST
DTSTART:20261101T060000
END:STANDARD
END:VTIMEZONE
BEGIN:VEVENT
DTSTART;TZID=America/Indiana/Indianapolis:20250206T113000
DTEND;TZID=America/Indiana/Indianapolis:20250206T130000
DTSTAMP:20260421T085222
CREATED:20250122T162215Z
LAST-MODIFIED:20250122T162215Z
UID:554-1738841400-1738846800@bloomingtonnorthrotary.com
SUMMARY:Amy Swain\, Monroe County Recorder
DESCRIPTION:Looking forward to hearing from our Monroe County Recorder. What does she do? What has changed over the years?
URL:https://bloomingtonnorthrotary.com/event/amy-swain-monroe-county-recorder/
LOCATION:Crazy Horse\, 214 W. Kirkwood Ave.\, Bloomington\, IN\, 47404\, United States
ATTACH;FMTTYPE=image/jpeg:https://bloomingtonnorthrotary.com/wp-content/uploads/2025/01/amy-swain.jpg
END:VEVENT
BEGIN:VEVENT
DTSTART;TZID=America/Indiana/Indianapolis:20250213T110000
DTEND;TZID=America/Indiana/Indianapolis:20250213T130000
DTSTAMP:20260421T085222
CREATED:20250108T204955Z
LAST-MODIFIED:20250108T204955Z
UID:547-1739444400-1739451600@bloomingtonnorthrotary.com
SUMMARY:Dr. Scott J. Shackelford\, JD\, PhD-Provost Professor of Business Law and Ethics\, Indiana University Kelley School of Business
DESCRIPTION:Thank you to Von Welch for securing this speaker!  Dr. Shackelford is going to share with us about Bitcoin and Web 3.0/blockchain. I personally know nothing about it but hear about it all the time. I can’t wait to hear him speak to our club!
URL:https://bloomingtonnorthrotary.com/event/dr-scott-j-shackelford-jd-phd-provost-professor-of-business-law-and-ethics-indiana-university-kelley-school-of-business/
LOCATION:Crazy Horse\, 214 W. Kirkwood Ave.\, Bloomington\, IN\, 47404\, United States
ATTACH;FMTTYPE=image/jpeg:https://bloomingtonnorthrotary.com/wp-content/uploads/2025/01/shackelford-scott.jpg
END:VEVENT
BEGIN:VEVENT
DTSTART;TZID=America/Indiana/Indianapolis:20250220T113000
DTEND;TZID=America/Indiana/Indianapolis:20250220T130000
DTSTAMP:20260421T085222
CREATED:20250129T164245Z
LAST-MODIFIED:20250220T145452Z
UID:561-1740051000-1740056400@bloomingtonnorthrotary.com
SUMMARY:Sydney Zulich  (David Weber is sick with covid-will reschedule!)
DESCRIPTION:She is the youngest council member ever.  She serves as the Representative for Council District VI.
URL:https://bloomingtonnorthrotary.com/event/david-weber-musician-airtime-studios-acoustics/
LOCATION:Crazy Horse\, 214 W. Kirkwood Ave.\, Bloomington\, IN\, 47404\, United States
ATTACH;FMTTYPE=image/jpeg:https://bloomingtonnorthrotary.com/wp-content/uploads/2025/01/0000Zulich-website-3.jpg
END:VEVENT
BEGIN:VEVENT
DTSTART;TZID=America/Indiana/Indianapolis:20250227T113000
DTEND;TZID=America/Indiana/Indianapolis:20250227T130000
DTSTAMP:20260421T085222
CREATED:20250129T152215Z
LAST-MODIFIED:20250129T152215Z
UID:558-1740655800-1740661200@bloomingtonnorthrotary.com
SUMMARY:Cheryl Smith\, owner Consider It Done Transition Services
DESCRIPTION:Cheryl has built her professional career around helping people make life transitions. She worked as a teacher and principal in the public schools for 20 years. \nShe specializes in creating a personalized system for each one of her clients. Building a trusting relationship with her clients is what brings a joy and passion to her work. \nConsider It Done offers transition services in downsizing\, decluttering\, organizing\, senior move management (preparation\, move & settling in)\, estate disbursement\, prep for home sale\, home clear-outs\, estate/tag sales and consignment services. \nShe is a certified move manager and member of the National Association of Specialty and Senior Move Managers and a Dementia Friendly Business. \nCheryl has been happily married to her husband Tom for 35 years. They have two daughters\, two granddaughters and another one (a boy) coming soon! \nWe look forward to hearing from her on Thursday\, February 27th! \n 
URL:https://bloomingtonnorthrotary.com/event/cheryl-smith-owner-consider-it-done-transition-services/
LOCATION:Crazy Horse\, 214 W. Kirkwood Ave.\, Bloomington\, IN\, 47404\, United States
ATTACH;FMTTYPE=image/jpeg:https://bloomingtonnorthrotary.com/wp-content/uploads/2025/01/Cheryl-bright-blue-shirt.jpg
END:VEVENT
END:VCALENDAR