BEGIN:VCALENDAR
VERSION:2.0
PRODID:-//Bloomington North Rotary - ECPv6.15.20//NONSGML v1.0//EN
CALSCALE:GREGORIAN
METHOD:PUBLISH
X-WR-CALNAME:Bloomington North Rotary
X-ORIGINAL-URL:https://bloomingtonnorthrotary.com
X-WR-CALDESC:Events for Bloomington North Rotary
REFRESH-INTERVAL;VALUE=DURATION:PT1H
X-Robots-Tag:noindex
X-PUBLISHED-TTL:PT1H
BEGIN:VTIMEZONE
TZID:America/Indiana/Indianapolis
BEGIN:DAYLIGHT
TZOFFSETFROM:-0500
TZOFFSETTO:-0400
TZNAME:EDT
DTSTART:20230312T070000
END:DAYLIGHT
BEGIN:STANDARD
TZOFFSETFROM:-0400
TZOFFSETTO:-0500
TZNAME:EST
DTSTART:20231105T060000
END:STANDARD
BEGIN:DAYLIGHT
TZOFFSETFROM:-0500
TZOFFSETTO:-0400
TZNAME:EDT
DTSTART:20240310T070000
END:DAYLIGHT
BEGIN:STANDARD
TZOFFSETFROM:-0400
TZOFFSETTO:-0500
TZNAME:EST
DTSTART:20241103T060000
END:STANDARD
BEGIN:DAYLIGHT
TZOFFSETFROM:-0500
TZOFFSETTO:-0400
TZNAME:EDT
DTSTART:20250309T070000
END:DAYLIGHT
BEGIN:STANDARD
TZOFFSETFROM:-0400
TZOFFSETTO:-0500
TZNAME:EST
DTSTART:20251102T060000
END:STANDARD
END:VTIMEZONE
BEGIN:VEVENT
DTSTART;TZID=America/Indiana/Indianapolis:20240704T080000
DTEND;TZID=America/Indiana/Indianapolis:20240704T170000
DTSTAMP:20260421T130439
CREATED:20240506T143323Z
LAST-MODIFIED:20240506T143323Z
UID:412-1720080000-1720112400@bloomingtonnorthrotary.com
SUMMARY:No Meeting - Happy 4th of July
DESCRIPTION:
URL:https://bloomingtonnorthrotary.com/event/no-meeting-happy-4th-of-july/
LOCATION:IN
CATEGORIES:Weekly Meeting
ATTACH;FMTTYPE=image/jpeg:https://bloomingtonnorthrotary.com/wp-content/uploads/2024/05/Rotary-4th-of-July.jpg
END:VEVENT
BEGIN:VEVENT
DTSTART;TZID=America/Indiana/Indianapolis:20240710T180000
DTEND;TZID=America/Indiana/Indianapolis:20240710T190000
DTSTAMP:20260421T130439
CREATED:20240511T004327Z
LAST-MODIFIED:20240511T004327Z
UID:422-1720634400-1720638000@bloomingtonnorthrotary.com
SUMMARY:New Member Orientation
DESCRIPTION:You can register in DacDb – or if you need help ask Bryan or Adam to register you.
URL:https://bloomingtonnorthrotary.com/event/new-member-orientation-6/
LOCATION:Zoom
CATEGORIES:District
ATTACH;FMTTYPE=image/jpeg:https://bloomingtonnorthrotary.com/wp-content/uploads/2023/01/Welcome-on-Board-to-Rotary1.jpg
END:VEVENT
BEGIN:VEVENT
DTSTART;TZID=America/Indiana/Indianapolis:20240711T080000
DTEND;TZID=America/Indiana/Indianapolis:20240711T170000
DTSTAMP:20260421T130439
CREATED:20240506T143054Z
LAST-MODIFIED:20240506T143054Z
UID:409-1720684800-1720717200@bloomingtonnorthrotary.com
SUMMARY:Club changeover to new leadership
DESCRIPTION:Come as Bryan says goodbye to his year as President and welcome Adam Beasley in as our new President for 2024-25.
URL:https://bloomingtonnorthrotary.com/event/club-changeover-to-new-leadership/
LOCATION:Crazy Horse\, 214 W. Kirkwood Ave.\, Bloomington\, IN\, 47404\, United States
CATEGORIES:Weekly Meeting
ATTACH;FMTTYPE=image/jpeg:https://bloomingtonnorthrotary.com/wp-content/uploads/2024/05/newyears.jpg
END:VEVENT
BEGIN:VEVENT
DTSTART;TZID=America/Indiana/Indianapolis:20240718T114500
DTEND;TZID=America/Indiana/Indianapolis:20240718T130000
DTSTAMP:20260421T130439
CREATED:20231104T151835Z
LAST-MODIFIED:20231104T151835Z
UID:290-1721303100-1721307600@bloomingtonnorthrotary.com
SUMMARY:District Governor - Mandy Lohrum
DESCRIPTION:
URL:https://bloomingtonnorthrotary.com/event/district-governor-mandy-lohrum/
LOCATION:Crazy Horse\, 214 W. Kirkwood Ave.\, Bloomington\, IN\, 47404\, United States
CATEGORIES:Weekly Meeting
ATTACH;FMTTYPE=image/jpeg:https://bloomingtonnorthrotary.com/wp-content/uploads/2023/11/Mandy-Lohrum.jpg
END:VEVENT
BEGIN:VEVENT
DTSTART;TZID=America/Indiana/Indianapolis:20240725T120000
DTEND;TZID=America/Indiana/Indianapolis:20240725T130000
DTSTAMP:20260421T130439
CREATED:20240504T013452Z
LAST-MODIFIED:20240504T013833Z
UID:398-1721908800-1721912400@bloomingtonnorthrotary.com
SUMMARY:Field trip to Tim Ellis' Car Collection
DESCRIPTION:The collection consists of a 1925 Model T Ford Touring\, 1930 Model A Cabriolet\, 1937 Ford Club Cabriolet\, 1949 Studebaker Land Cruiser\, 1950 Chev pickup\, 1953 Plymouth Cranbrook\, 1965 Mustang convertible\, and 1979 VW Cabriolet.
URL:https://bloomingtonnorthrotary.com/event/fieldtrip-to-tim-ellis-car-collection/
LOCATION:IN
CATEGORIES:Weekly Meeting
ATTACH;FMTTYPE=image/jpeg:https://bloomingtonnorthrotary.com/wp-content/uploads/2024/05/Tim-Ellis-Cars.jpg
END:VEVENT
END:VCALENDAR