BEGIN:VCALENDAR
VERSION:2.0
PRODID:-//Bloomington North Rotary - ECPv6.15.20//NONSGML v1.0//EN
CALSCALE:GREGORIAN
METHOD:PUBLISH
X-ORIGINAL-URL:https://bloomingtonnorthrotary.com
X-WR-CALDESC:Events for Bloomington North Rotary
REFRESH-INTERVAL;VALUE=DURATION:PT1H
X-Robots-Tag:noindex
X-PUBLISHED-TTL:PT1H
BEGIN:VTIMEZONE
TZID:America/Indiana/Indianapolis
BEGIN:DAYLIGHT
TZOFFSETFROM:-0500
TZOFFSETTO:-0400
TZNAME:EDT
DTSTART:20240310T070000
END:DAYLIGHT
BEGIN:STANDARD
TZOFFSETFROM:-0400
TZOFFSETTO:-0500
TZNAME:EST
DTSTART:20241103T060000
END:STANDARD
BEGIN:DAYLIGHT
TZOFFSETFROM:-0500
TZOFFSETTO:-0400
TZNAME:EDT
DTSTART:20250309T070000
END:DAYLIGHT
BEGIN:STANDARD
TZOFFSETFROM:-0400
TZOFFSETTO:-0500
TZNAME:EST
DTSTART:20251102T060000
END:STANDARD
BEGIN:DAYLIGHT
TZOFFSETFROM:-0500
TZOFFSETTO:-0400
TZNAME:EDT
DTSTART:20260308T070000
END:DAYLIGHT
BEGIN:STANDARD
TZOFFSETFROM:-0400
TZOFFSETTO:-0500
TZNAME:EST
DTSTART:20261101T060000
END:STANDARD
BEGIN:DAYLIGHT
TZOFFSETFROM:-0500
TZOFFSETTO:-0400
TZNAME:EDT
DTSTART:20270314T070000
END:DAYLIGHT
BEGIN:STANDARD
TZOFFSETFROM:-0400
TZOFFSETTO:-0500
TZNAME:EST
DTSTART:20271107T060000
END:STANDARD
END:VTIMEZONE
BEGIN:VEVENT
DTSTART;TZID=America/Indiana/Indianapolis:20250820T180000
DTEND;TZID=America/Indiana/Indianapolis:20250820T190000
DTSTAMP:20260424T230326
CREATED:20250804T170701Z
LAST-MODIFIED:20250804T170701Z
UID:663-1755712800-1755716400@bloomingtonnorthrotary.com
SUMMARY:New Member Orientation - Zoom
DESCRIPTION:If you are new to Rotary and want to learn more about this amazing organization you have just joined\, we hope you will sign up.  The facilitator is Linda Simmons from the Greensburg Rotary Club. \nAsk Bryan to register you.
URL:https://bloomingtonnorthrotary.com/event/new-member-orientation-zoom/
LOCATION:Zoom
CATEGORIES:District
ATTACH;FMTTYPE=image/jpeg:https://bloomingtonnorthrotary.com/wp-content/uploads/2023/01/Welcome-on-Board-to-Rotary1.jpg
END:VEVENT
BEGIN:VEVENT
DTSTART;TZID=America/Indiana/Indianapolis:20250911T113000
DTEND;TZID=America/Indiana/Indianapolis:20250911T130000
DTSTAMP:20260424T230326
CREATED:20250825T153733Z
LAST-MODIFIED:20250825T153733Z
UID:671-1757590200-1757595600@bloomingtonnorthrotary.com
SUMMARY:Jim Wiltz - Buddy walk Board Member
DESCRIPTION:https://www.downsyndromefamilyconnection.org/buddy-walk.html
URL:https://bloomingtonnorthrotary.com/event/jim-wiltz-buddy-walk-board-member/
LOCATION:Crazy Horse\, 214 W. Kirkwood Ave.\, Bloomington\, IN\, 47404\, United States
CATEGORIES:District
ATTACH;FMTTYPE=image/jpeg:https://bloomingtonnorthrotary.com/wp-content/uploads/2025/08/JimWiltz.jpeg
END:VEVENT
BEGIN:VEVENT
DTSTART;TZID=America/Indiana/Indianapolis:20251002T113000
DTEND;TZID=America/Indiana/Indianapolis:20251002T130000
DTSTAMP:20260424T230326
CREATED:20250825T152836Z
LAST-MODIFIED:20250826T235803Z
UID:667-1759404600-1759410000@bloomingtonnorthrotary.com
SUMMARY:Jamie Neibel - Director of Emergency Management - Monroe County
DESCRIPTION:
URL:https://bloomingtonnorthrotary.com/event/jaime-neibel-director-of-emergency-management-monroe-county/
LOCATION:Crazy Horse\, 214 W. Kirkwood Ave.\, Bloomington\, IN\, 47404\, United States
CATEGORIES:District
ATTACH;FMTTYPE=image/jpeg:https://bloomingtonnorthrotary.com/wp-content/uploads/2025/08/JamieNeibel.jpeg
END:VEVENT
BEGIN:VEVENT
DTSTART;TZID=America/Indiana/Indianapolis:20260423T113000
DTEND;TZID=America/Indiana/Indianapolis:20260423T130000
DTSTAMP:20260424T230326
CREATED:20260311T183411Z
LAST-MODIFIED:20260311T183532Z
UID:799-1776943800-1776949200@bloomingtonnorthrotary.com
SUMMARY:Carrie Stillions - Middleway House
DESCRIPTION:
URL:https://bloomingtonnorthrotary.com/event/carrie-stillions-middleway-house/
LOCATION:Crazy Horse\, 214 W. Kirkwood Ave.\, Bloomington\, IN\, 47404\, United States
CATEGORIES:District
ATTACH;FMTTYPE=image/jpeg:https://bloomingtonnorthrotary.com/wp-content/uploads/2026/03/carrie-stillions.jpg
END:VEVENT
END:VCALENDAR