BEGIN:VCALENDAR
VERSION:2.0
PRODID:-//Bloomington North Rotary - ECPv6.15.20//NONSGML v1.0//EN
CALSCALE:GREGORIAN
METHOD:PUBLISH
X-ORIGINAL-URL:https://bloomingtonnorthrotary.com
X-WR-CALDESC:Events for Bloomington North Rotary
REFRESH-INTERVAL;VALUE=DURATION:PT1H
X-Robots-Tag:noindex
X-PUBLISHED-TTL:PT1H
BEGIN:VTIMEZONE
TZID:America/Indiana/Indianapolis
BEGIN:DAYLIGHT
TZOFFSETFROM:-0500
TZOFFSETTO:-0400
TZNAME:EDT
DTSTART:20240310T070000
END:DAYLIGHT
BEGIN:STANDARD
TZOFFSETFROM:-0400
TZOFFSETTO:-0500
TZNAME:EST
DTSTART:20241103T060000
END:STANDARD
BEGIN:DAYLIGHT
TZOFFSETFROM:-0500
TZOFFSETTO:-0400
TZNAME:EDT
DTSTART:20250309T070000
END:DAYLIGHT
BEGIN:STANDARD
TZOFFSETFROM:-0400
TZOFFSETTO:-0500
TZNAME:EST
DTSTART:20251102T060000
END:STANDARD
BEGIN:DAYLIGHT
TZOFFSETFROM:-0500
TZOFFSETTO:-0400
TZNAME:EDT
DTSTART:20260308T070000
END:DAYLIGHT
BEGIN:STANDARD
TZOFFSETFROM:-0400
TZOFFSETTO:-0500
TZNAME:EST
DTSTART:20261101T060000
END:STANDARD
END:VTIMEZONE
BEGIN:VEVENT
DTSTART;TZID=America/Indiana/Indianapolis:20250529T113000
DTEND;TZID=America/Indiana/Indianapolis:20250529T130000
DTSTAMP:20260421T143531
CREATED:20250526T195303Z
LAST-MODIFIED:20250526T195303Z
UID:618-1748518200-1748523600@bloomingtonnorthrotary.com
SUMMARY:Stride Crisis Center\, Jennifer Scott\, Certified Peer Support Professional
DESCRIPTION:The Stride Crisis Center is a mobile response team committed to accessing substance use treatment\, detox\, or impatient mental health care support with overall goals in harm reduction\, overdose prevention\, and suicide prevention care. They serve all individuals in need. \nThe Centerstone Stride mobile crisis response team was awarded the Outstanding Social Services Agency award in May 2025 by Mental Health of America Monroe Chapter at the Mental Health Gala award ceremony. \nBe sure to join us to hear about this much needed team and hear their stories!
URL:https://bloomingtonnorthrotary.com/event/stride-crisis-center-jennifer-scott-certified-peer-support-professional/
LOCATION:Crazy Horse\, 214 W. Kirkwood Ave.\, Bloomington\, IN\, 47404\, United States
ATTACH;FMTTYPE=image/webp:https://bloomingtonnorthrotary.com/wp-content/uploads/2025/05/Jennifer-Scott.webp
END:VEVENT
END:VCALENDAR