BEGIN:VCALENDAR
VERSION:2.0
PRODID:-//Bloomington North Rotary - ECPv6.15.20//NONSGML v1.0//EN
CALSCALE:GREGORIAN
METHOD:PUBLISH
X-ORIGINAL-URL:https://bloomingtonnorthrotary.com
X-WR-CALDESC:Events for Bloomington North Rotary
REFRESH-INTERVAL;VALUE=DURATION:PT1H
X-Robots-Tag:noindex
X-PUBLISHED-TTL:PT1H
BEGIN:VTIMEZONE
TZID:America/Indiana/Indianapolis
BEGIN:DAYLIGHT
TZOFFSETFROM:-0500
TZOFFSETTO:-0400
TZNAME:EDT
DTSTART:20240310T070000
END:DAYLIGHT
BEGIN:STANDARD
TZOFFSETFROM:-0400
TZOFFSETTO:-0500
TZNAME:EST
DTSTART:20241103T060000
END:STANDARD
BEGIN:DAYLIGHT
TZOFFSETFROM:-0500
TZOFFSETTO:-0400
TZNAME:EDT
DTSTART:20250309T070000
END:DAYLIGHT
BEGIN:STANDARD
TZOFFSETFROM:-0400
TZOFFSETTO:-0500
TZNAME:EST
DTSTART:20251102T060000
END:STANDARD
BEGIN:DAYLIGHT
TZOFFSETFROM:-0500
TZOFFSETTO:-0400
TZNAME:EDT
DTSTART:20260308T070000
END:DAYLIGHT
BEGIN:STANDARD
TZOFFSETFROM:-0400
TZOFFSETTO:-0500
TZNAME:EST
DTSTART:20261101T060000
END:STANDARD
END:VTIMEZONE
BEGIN:VEVENT
DTSTART;TZID=America/Indiana/Indianapolis:20250522T113000
DTEND;TZID=America/Indiana/Indianapolis:20250522T130000
DTSTAMP:20260421T143532
CREATED:20250418T183828Z
LAST-MODIFIED:20250418T183828Z
UID:608-1747913400-1747918800@bloomingtonnorthrotary.com
SUMMARY:John Whikehart\, President\, Capital Improvement Board
DESCRIPTION:John Whikehart will be talking to us about tariffs\, parking\, hotels for convention center expansion \nAfter almost a decade of delay and stalemate on the convention center expansion\, the project is moving at ‘warp speed’ – due to the formation of a Capital Improvement Board. The center has a new name\, design phase is done\, and groundbreaking is scheduled for June. \n 
URL:https://bloomingtonnorthrotary.com/event/john-whikehart-president-capital-improvement-board/
LOCATION:Crazy Horse\, 214 W. Kirkwood Ave.\, Bloomington\, IN\, 47404\, United States
ATTACH;FMTTYPE=image/jpeg:https://bloomingtonnorthrotary.com/wp-content/uploads/2025/04/Whikehart12-310x464-1.jpg
END:VEVENT
END:VCALENDAR