BEGIN:VCALENDAR
VERSION:2.0
PRODID:-//Bloomington North Rotary - ECPv6.15.20//NONSGML v1.0//EN
CALSCALE:GREGORIAN
METHOD:PUBLISH
X-WR-CALNAME:Bloomington North Rotary
X-ORIGINAL-URL:https://bloomingtonnorthrotary.com
X-WR-CALDESC:Events for Bloomington North Rotary
REFRESH-INTERVAL;VALUE=DURATION:PT1H
X-Robots-Tag:noindex
X-PUBLISHED-TTL:PT1H
BEGIN:VTIMEZONE
TZID:America/Indiana/Indianapolis
BEGIN:DAYLIGHT
TZOFFSETFROM:-0500
TZOFFSETTO:-0400
TZNAME:EDT
DTSTART:20240310T070000
END:DAYLIGHT
BEGIN:STANDARD
TZOFFSETFROM:-0400
TZOFFSETTO:-0500
TZNAME:EST
DTSTART:20241103T060000
END:STANDARD
BEGIN:DAYLIGHT
TZOFFSETFROM:-0500
TZOFFSETTO:-0400
TZNAME:EDT
DTSTART:20250309T070000
END:DAYLIGHT
BEGIN:STANDARD
TZOFFSETFROM:-0400
TZOFFSETTO:-0500
TZNAME:EST
DTSTART:20251102T060000
END:STANDARD
BEGIN:DAYLIGHT
TZOFFSETFROM:-0500
TZOFFSETTO:-0400
TZNAME:EDT
DTSTART:20260308T070000
END:DAYLIGHT
BEGIN:STANDARD
TZOFFSETFROM:-0400
TZOFFSETTO:-0500
TZNAME:EST
DTSTART:20261101T060000
END:STANDARD
END:VTIMEZONE
BEGIN:VEVENT
DTSTART;TZID=America/Indiana/Indianapolis:20250417T113000
DTEND;TZID=America/Indiana/Indianapolis:20250417T130000
DTSTAMP:20260421T130837
CREATED:20250228T214358Z
LAST-MODIFIED:20250228T214358Z
UID:578-1744889400-1744894800@bloomingtonnorthrotary.com
SUMMARY:Jen Allbright\, Behavior Therapist --Positive Behaviors--
DESCRIPTION:Jen holds a Bachelor’s Degree in Elementary and Special Education as well as a Masters in Applied Behavior Analysis. She was a Special Education Teacher for 8 years and has worked as a Behavior Consultant for 7 years. Positive Behaviors was a dream of Jen’s that turned into a vision\, that turned into a wonderful program. She wants to share love\, compassion\, and appreciation for others while sparkling an endless love of learning and self-pursuit.  Her website is https://www.positivebehaviors.org/ \n 
URL:https://bloomingtonnorthrotary.com/event/jen-allbright-behavior-therapist-positive-behaviors/
LOCATION:Crazy Horse\, 214 W. Kirkwood Ave.\, Bloomington\, IN\, 47404\, United States
ATTACH;FMTTYPE=image/jpeg:https://bloomingtonnorthrotary.com/wp-content/uploads/2025/02/JENAllbrigtht.jpg
END:VEVENT
END:VCALENDAR