BEGIN:VCALENDAR
VERSION:2.0
PRODID:-//Bloomington North Rotary - ECPv6.15.20//NONSGML v1.0//EN
CALSCALE:GREGORIAN
METHOD:PUBLISH
X-WR-CALNAME:Bloomington North Rotary
X-ORIGINAL-URL:https://bloomingtonnorthrotary.com
X-WR-CALDESC:Events for Bloomington North Rotary
REFRESH-INTERVAL;VALUE=DURATION:PT1H
X-Robots-Tag:noindex
X-PUBLISHED-TTL:PT1H
BEGIN:VTIMEZONE
TZID:America/Indiana/Indianapolis
BEGIN:DAYLIGHT
TZOFFSETFROM:-0500
TZOFFSETTO:-0400
TZNAME:EDT
DTSTART:20240310T070000
END:DAYLIGHT
BEGIN:STANDARD
TZOFFSETFROM:-0400
TZOFFSETTO:-0500
TZNAME:EST
DTSTART:20241103T060000
END:STANDARD
BEGIN:DAYLIGHT
TZOFFSETFROM:-0500
TZOFFSETTO:-0400
TZNAME:EDT
DTSTART:20250309T070000
END:DAYLIGHT
BEGIN:STANDARD
TZOFFSETFROM:-0400
TZOFFSETTO:-0500
TZNAME:EST
DTSTART:20251102T060000
END:STANDARD
BEGIN:DAYLIGHT
TZOFFSETFROM:-0500
TZOFFSETTO:-0400
TZNAME:EDT
DTSTART:20260308T070000
END:DAYLIGHT
BEGIN:STANDARD
TZOFFSETFROM:-0400
TZOFFSETTO:-0500
TZNAME:EST
DTSTART:20261101T060000
END:STANDARD
END:VTIMEZONE
BEGIN:VEVENT
DTSTART;TZID=America/Indiana/Indianapolis:20250403T113000
DTEND;TZID=America/Indiana/Indianapolis:20250403T130000
DTSTAMP:20260421T113602
CREATED:20250305T172605Z
LAST-MODIFIED:20250305T172605Z
UID:583-1743679800-1743685200@bloomingtonnorthrotary.com
SUMMARY:The Village Woodturners - Dave Cosentino
DESCRIPTION:Dave Consentino began woodturning as a creative outlet over 25 years ago. Since retiring\, he has been able to devote more time to it.  He enjoys the challenge of designing a piece when starting with a freshly harvested log and seeing where the wood takes me. His workshop is located in the Bloomington Indiana area. \nThe Village Woodturners have been around for a little over 15 years. It is a group of wood turning professionals and hobbyists dedicated to the promotion of wood turning and providing education to anyone interested in the craft. They are based in Bloomington but also serve several surrounding counties. They are a local chapter of  the American Association of Woodturners\, a worldwide organization! \n 
URL:https://bloomingtonnorthrotary.com/event/the-village-woodturners-dave-cosentino/
LOCATION:Crazy Horse\, 214 W. Kirkwood Ave.\, Bloomington\, IN\, 47404\, United States
ATTACH;FMTTYPE=image/jpeg:https://bloomingtonnorthrotary.com/wp-content/uploads/2025/03/Dave-Cosentino.jpeg
END:VEVENT
END:VCALENDAR