BEGIN:VCALENDAR
VERSION:2.0
PRODID:-//Bloomington North Rotary - ECPv6.15.20//NONSGML v1.0//EN
CALSCALE:GREGORIAN
METHOD:PUBLISH
X-ORIGINAL-URL:https://bloomingtonnorthrotary.com
X-WR-CALDESC:Events for Bloomington North Rotary
REFRESH-INTERVAL;VALUE=DURATION:PT1H
X-Robots-Tag:noindex
X-PUBLISHED-TTL:PT1H
BEGIN:VTIMEZONE
TZID:America/Indiana/Indianapolis
BEGIN:DAYLIGHT
TZOFFSETFROM:-0500
TZOFFSETTO:-0400
TZNAME:EDT
DTSTART:20240310T070000
END:DAYLIGHT
BEGIN:STANDARD
TZOFFSETFROM:-0400
TZOFFSETTO:-0500
TZNAME:EST
DTSTART:20241103T060000
END:STANDARD
BEGIN:DAYLIGHT
TZOFFSETFROM:-0500
TZOFFSETTO:-0400
TZNAME:EDT
DTSTART:20250309T070000
END:DAYLIGHT
BEGIN:STANDARD
TZOFFSETFROM:-0400
TZOFFSETTO:-0500
TZNAME:EST
DTSTART:20251102T060000
END:STANDARD
BEGIN:DAYLIGHT
TZOFFSETFROM:-0500
TZOFFSETTO:-0400
TZNAME:EDT
DTSTART:20260308T070000
END:DAYLIGHT
BEGIN:STANDARD
TZOFFSETFROM:-0400
TZOFFSETTO:-0500
TZNAME:EST
DTSTART:20261101T060000
END:STANDARD
END:VTIMEZONE
BEGIN:VEVENT
DTSTART;TZID=America/Indiana/Indianapolis:20250327T113000
DTEND;TZID=America/Indiana/Indianapolis:20250327T130000
DTSTAMP:20260421T113958
CREATED:20250228T213107Z
LAST-MODIFIED:20250228T213107Z
UID:575-1743075000-1743080400@bloomingtonnorthrotary.com
SUMMARY:Wayne Allbright --Stone Creek Ranch--
DESCRIPTION:Stone Creek Ranch is a full-service horse ranch that offers something for every horse lover – whether first-time rider or experiences competitor. The owners are Wayne and Jen Allbright. They offer lessons\, leasing\, boarding\, training\, and more!!! \n*45 acres of beautiful pastures with a creek running through each \n*12 miles of on-property trails \n*22 acre confidence course and trotting track \n*An outdoor arena \n*2 round pens \n*Spacious stalls \n*Wash racks \n*Trailer parking \nand of course\, many wonderful horses! \nThey are open seven days a week\, year-round\, from 8 am – 5 pm to the public and open to boarders and leasers anytime.
URL:https://bloomingtonnorthrotary.com/event/wayne-allbright-stone-creek-ranch/
LOCATION:Crazy Horse\, 214 W. Kirkwood Ave.\, Bloomington\, IN\, 47404\, United States
ATTACH;FMTTYPE=image/jpeg:https://bloomingtonnorthrotary.com/wp-content/uploads/2025/02/JenWayne101_websize.jpg
END:VEVENT
END:VCALENDAR