BEGIN:VCALENDAR
VERSION:2.0
PRODID:-//Bloomington North Rotary - ECPv6.15.20//NONSGML v1.0//EN
CALSCALE:GREGORIAN
METHOD:PUBLISH
X-WR-CALNAME:Bloomington North Rotary
X-ORIGINAL-URL:https://bloomingtonnorthrotary.com
X-WR-CALDESC:Events for Bloomington North Rotary
REFRESH-INTERVAL;VALUE=DURATION:PT1H
X-Robots-Tag:noindex
X-PUBLISHED-TTL:PT1H
BEGIN:VTIMEZONE
TZID:America/Indiana/Indianapolis
BEGIN:DAYLIGHT
TZOFFSETFROM:-0500
TZOFFSETTO:-0400
TZNAME:EDT
DTSTART:20240310T070000
END:DAYLIGHT
BEGIN:STANDARD
TZOFFSETFROM:-0400
TZOFFSETTO:-0500
TZNAME:EST
DTSTART:20241103T060000
END:STANDARD
BEGIN:DAYLIGHT
TZOFFSETFROM:-0500
TZOFFSETTO:-0400
TZNAME:EDT
DTSTART:20250309T070000
END:DAYLIGHT
BEGIN:STANDARD
TZOFFSETFROM:-0400
TZOFFSETTO:-0500
TZNAME:EST
DTSTART:20251102T060000
END:STANDARD
BEGIN:DAYLIGHT
TZOFFSETFROM:-0500
TZOFFSETTO:-0400
TZNAME:EDT
DTSTART:20260308T070000
END:DAYLIGHT
BEGIN:STANDARD
TZOFFSETFROM:-0400
TZOFFSETTO:-0500
TZNAME:EST
DTSTART:20261101T060000
END:STANDARD
END:VTIMEZONE
BEGIN:VEVENT
DTSTART;TZID=America/Indiana/Indianapolis:20250313T113000
DTEND;TZID=America/Indiana/Indianapolis:20250313T130000
DTSTAMP:20260421T113504
CREATED:20250228T215257Z
LAST-MODIFIED:20250228T215257Z
UID:581-1741865400-1741870800@bloomingtonnorthrotary.com
SUMMARY:Dr. Mark Dayton-----New President and leadership: "The Good" "The Bad" of it all when it comes to healthcare and medicine.
DESCRIPTION:I asked Dr. Dayton to speak to us on what changes\, etc. have occurred since the new administration has been in place and future changes per promises the new president has made.  Not getting into the politics of it all\, Dr. Dayton will let us know the changes he sees and how it will affect healthcare. Two totally different administrations……this should be a very eye-opening and interesting talk!  Thank you to our very own Dr. Dayton for taking time to share with us!
URL:https://bloomingtonnorthrotary.com/event/dr-mark-dayton-new-president-and-leadership-the-good-the-bad-of-it-all-when-it-comes-to-healthcare-and-medicine/
LOCATION:Crazy Horse\, 214 W. Kirkwood Ave.\, Bloomington\, IN\, 47404\, United States
ATTACH;FMTTYPE=image/jpeg:https://bloomingtonnorthrotary.com/wp-content/uploads/2024/05/Mark-Dayton.jpg
END:VEVENT
END:VCALENDAR