BEGIN:VCALENDAR
VERSION:2.0
PRODID:-//Bloomington North Rotary - ECPv6.15.20//NONSGML v1.0//EN
CALSCALE:GREGORIAN
METHOD:PUBLISH
X-ORIGINAL-URL:https://bloomingtonnorthrotary.com
X-WR-CALDESC:Events for Bloomington North Rotary
REFRESH-INTERVAL;VALUE=DURATION:PT1H
X-Robots-Tag:noindex
X-PUBLISHED-TTL:PT1H
BEGIN:VTIMEZONE
TZID:America/Indiana/Indianapolis
BEGIN:DAYLIGHT
TZOFFSETFROM:-0500
TZOFFSETTO:-0400
TZNAME:EDT
DTSTART:20240310T070000
END:DAYLIGHT
BEGIN:STANDARD
TZOFFSETFROM:-0400
TZOFFSETTO:-0500
TZNAME:EST
DTSTART:20241103T060000
END:STANDARD
BEGIN:DAYLIGHT
TZOFFSETFROM:-0500
TZOFFSETTO:-0400
TZNAME:EDT
DTSTART:20250309T070000
END:DAYLIGHT
BEGIN:STANDARD
TZOFFSETFROM:-0400
TZOFFSETTO:-0500
TZNAME:EST
DTSTART:20251102T060000
END:STANDARD
BEGIN:DAYLIGHT
TZOFFSETFROM:-0500
TZOFFSETTO:-0400
TZNAME:EDT
DTSTART:20260308T070000
END:DAYLIGHT
BEGIN:STANDARD
TZOFFSETFROM:-0400
TZOFFSETTO:-0500
TZNAME:EST
DTSTART:20261101T060000
END:STANDARD
END:VTIMEZONE
BEGIN:VEVENT
DTSTART;TZID=America/Indiana/Indianapolis:20250306T113000
DTEND;TZID=America/Indiana/Indianapolis:20250306T130000
DTSTAMP:20260421T113856
CREATED:20250228T160358Z
LAST-MODIFIED:20250306T162633Z
UID:570-1741260600-1741266000@bloomingtonnorthrotary.com
SUMMARY:Cathy Smith\, Monroe County Treasurer
DESCRIPTION:Cathy has been involved with in the Monroe County government since January of 2000. She served a four-year term as Monroe County’s chief deputy auditor. In 2009 she started the first of two consecutive terms as county treasurer. After eight years as treasurer\, Smith served as county auditor starting in 2016 before eventually again assuming the role of county treasurer in 2024.  Cathy will share with us her role as the treasurer\, collection of  property taxes and how they are spent. She also will share current tax rates.  I am looking forward to hearing Cathy speak!
URL:https://bloomingtonnorthrotary.com/event/cathy-smith-monroe-county-treasurer/
LOCATION:Crazy Horse\, 214 W. Kirkwood Ave.\, Bloomington\, IN\, 47404\, United States
ATTACH;FMTTYPE=image/jpeg:https://bloomingtonnorthrotary.com/wp-content/uploads/2025/02/Cathy-Smith.jpg
END:VEVENT
END:VCALENDAR