BEGIN:VCALENDAR
VERSION:2.0
PRODID:-//Bloomington North Rotary - ECPv6.15.20//NONSGML v1.0//EN
CALSCALE:GREGORIAN
METHOD:PUBLISH
X-WR-CALNAME:Bloomington North Rotary
X-ORIGINAL-URL:https://bloomingtonnorthrotary.com
X-WR-CALDESC:Events for Bloomington North Rotary
REFRESH-INTERVAL;VALUE=DURATION:PT1H
X-Robots-Tag:noindex
X-PUBLISHED-TTL:PT1H
BEGIN:VTIMEZONE
TZID:America/Indiana/Indianapolis
BEGIN:DAYLIGHT
TZOFFSETFROM:-0500
TZOFFSETTO:-0400
TZNAME:EDT
DTSTART:20230312T070000
END:DAYLIGHT
BEGIN:STANDARD
TZOFFSETFROM:-0400
TZOFFSETTO:-0500
TZNAME:EST
DTSTART:20231105T060000
END:STANDARD
BEGIN:DAYLIGHT
TZOFFSETFROM:-0500
TZOFFSETTO:-0400
TZNAME:EDT
DTSTART:20240310T070000
END:DAYLIGHT
BEGIN:STANDARD
TZOFFSETFROM:-0400
TZOFFSETTO:-0500
TZNAME:EST
DTSTART:20241103T060000
END:STANDARD
BEGIN:DAYLIGHT
TZOFFSETFROM:-0500
TZOFFSETTO:-0400
TZNAME:EDT
DTSTART:20250309T070000
END:DAYLIGHT
BEGIN:STANDARD
TZOFFSETFROM:-0400
TZOFFSETTO:-0500
TZNAME:EST
DTSTART:20251102T060000
END:STANDARD
END:VTIMEZONE
BEGIN:VEVENT
DTSTART;TZID=America/Indiana/Indianapolis:20241024T120000
DTEND;TZID=America/Indiana/Indianapolis:20241024T130000
DTSTAMP:20260421T101728
CREATED:20240917T150519Z
LAST-MODIFIED:20241001T175429Z
UID:486-1729771200-1729774800@bloomingtonnorthrotary.com
SUMMARY:Club sisters\, Amy Somers Kopp and Megan Somers Glenn will share about their lives
DESCRIPTION:Our very own Rotary Club members\, Amy Kopp and Megan Somers Glenn will share about ….themselves!  Let’s get to know Amy and Megan!!!
URL:https://bloomingtonnorthrotary.com/event/club-sisters-amy-kopp-and-megan-somers-glenn-will-share-about-their-lives/
LOCATION:Crazy Horse\, 214 W. Kirkwood Ave.\, Bloomington\, IN\, 47404\, United States
ATTACH;FMTTYPE=image/webp:https://bloomingtonnorthrotary.com/wp-content/uploads/2024/09/w640_original_bfbea72c-1aff-428e-b26a-206203aee397-png.webp
END:VEVENT
END:VCALENDAR