BEGIN:VCALENDAR
VERSION:2.0
PRODID:-//Bloomington North Rotary - ECPv6.15.20//NONSGML v1.0//EN
CALSCALE:GREGORIAN
METHOD:PUBLISH
X-ORIGINAL-URL:https://bloomingtonnorthrotary.com
X-WR-CALDESC:Events for Bloomington North Rotary
REFRESH-INTERVAL;VALUE=DURATION:PT1H
X-Robots-Tag:noindex
X-PUBLISHED-TTL:PT1H
BEGIN:VTIMEZONE
TZID:America/Indiana/Indianapolis
BEGIN:DAYLIGHT
TZOFFSETFROM:-0500
TZOFFSETTO:-0400
TZNAME:EDT
DTSTART:20230312T070000
END:DAYLIGHT
BEGIN:STANDARD
TZOFFSETFROM:-0400
TZOFFSETTO:-0500
TZNAME:EST
DTSTART:20231105T060000
END:STANDARD
BEGIN:DAYLIGHT
TZOFFSETFROM:-0500
TZOFFSETTO:-0400
TZNAME:EDT
DTSTART:20240310T070000
END:DAYLIGHT
BEGIN:STANDARD
TZOFFSETFROM:-0400
TZOFFSETTO:-0500
TZNAME:EST
DTSTART:20241103T060000
END:STANDARD
BEGIN:DAYLIGHT
TZOFFSETFROM:-0500
TZOFFSETTO:-0400
TZNAME:EDT
DTSTART:20250309T070000
END:DAYLIGHT
BEGIN:STANDARD
TZOFFSETFROM:-0400
TZOFFSETTO:-0500
TZNAME:EST
DTSTART:20251102T060000
END:STANDARD
END:VTIMEZONE
BEGIN:VEVENT
DTSTART;TZID=America/Indiana/Indianapolis:20241010T120000
DTEND;TZID=America/Indiana/Indianapolis:20241010T130000
DTSTAMP:20260421T102049
CREATED:20240917T145130Z
LAST-MODIFIED:20240917T145130Z
UID:482-1728561600-1728565200@bloomingtonnorthrotary.com
SUMMARY:Carol M. Seaman\, J.D.\, Retired\, Funeral Consumer Advocate. Toward a Natural Way of Burial
DESCRIPTION:Be sure to join us on October 10th for an interesting presentation on Green Burials!
URL:https://bloomingtonnorthrotary.com/event/carol-m-seaman-j-d-retired-funeral-consumer-advocate-toward-a-natural-way-of-burial/
LOCATION:Crazy Horse\, 214 W. Kirkwood Ave.\, Bloomington\, IN\, 47404\, United States
ATTACH;FMTTYPE=image/jpeg:https://bloomingtonnorthrotary.com/wp-content/uploads/2024/09/Carol-scaled.jpg
END:VEVENT
END:VCALENDAR